BEGIN:VCALENDAR
METHOD:PUBLISH
PRODID:-//doubleknot.com//CalenderEvent MIMEDIR//EN
VERSION:2.0
BEGIN:VEVENT
UID:3142736-20260706T160000Z-20260711T000000Z@doubleknot.com
CREATED:20260409T154230Z
LAST-MODIFIED:20260415T150715Z
DTSTAMP:20260420T085723Z
DTSTART:20260706T160000Z
DTEND:20260711T000000Z
LOCATION:Irvine, CA 92618, US
CATEGORIES:Day Camp 2026 
DESCRIPTION:GSOC Summer Exploration of Fun Day Camp \n  \n Level: All \n  \n  \n Location: Irvine, CA \n  \n  \n Date: July 6-10, 2026 \n  \n  \n Time: 9am - 5pm \n  \n  \n Join us for a GSOC Day Camp! Campers will participate in fun and engaging activities games, camp songs, and a field trip to Wild Rivers. This new day camp program will provide a safe and supportive environments for campers to learn new skills, make new friends, and have fun all day. Day Camp will run Monday to Friday, and each camper will get a special day camp shirt and a patch. A badge sheet will be included at the end of the session to show what badges and steps were completed during day camp. \n  \n  \n Cost: \n  \n  \n GSOC Girl Scout Camper: $400 \n  \n  \n Out of Council Girl Scout Camper: $475 \n  \n  \n   \n  \n  \n *This event is open to troops, Juliettes, and those with an active membership awaiting placement in a troop! \n  \n  \n Accommodation Requests: Girl Scouts of Orange County welcomes the participation of ALL Girl Scouts and adults and aims to make out activities accessible for people with disabilities or specific needs. To make an Accommodations Request, please complete this form to initiate your request. If you have questions about this form or if you would like to discuss an accommodation, please contact customercare@girlscoutsoc.org. \n  \n  \n A confirmation email with all event details will be sent to those registered at least 7 days before the event. If you have any questions, please email customercare@girlscoutsoc.org. \n  \n  \n This event accepts GSOC Cookie Dough, GSOC OC Bucks, and GSOC Juliette Dollars! Girl Scouts must complete online registration and pay deposit (if applicable) or in full. Then fill out the Reimbursement form prior to participating in the event. \n  \n  \n Campership Assistance Fund: \n  \n  \n Camperships are awarded to GSOC youth campers with a current Girl Scout membership on the basis of financial need only and are available for Camp Scherman summer sleepaway camps, Camp Scherman weekend camps and GSOC day camps. Camperships must be submitted no less than 6 weeks prior to the start day of the camp. \n  \n  \n Camperships - Financial Aid Application \n 
SUMMARY:GSOC Summer Exploration of Fun Day Camp July 6-10, 2026
PRIORITY:5
BEGIN:VALARM
TRIGGER:PT15M
ACTION:DISPLAY
DESCRIPTION:Reminder
PRIORITY:5
END:VALARM
END:VEVENT
END:VCALENDAR
